BEGIN:VCALENDAR
VERSION:2.0
PRODID:-//wp-events-plugin.com//7.2.3.1//EN
TZID:America/New_York
X-WR-TIMEZONE:America/New_York
BEGIN:VEVENT
UID:234@wvwinery.com
DTSTART;TZID=America/New_York:20231028T130000
DTEND;TZID=America/New_York:20231028T170000
DTSTAMP:20231003T131406Z
URL:https://wvwinery.com/events/live-music-1pm-5pm-crush/
SUMMARY:Live Music 1pm - 5pm - Crush
DESCRIPTION:Apple Varieties: Fuji\,EverCrisp\, Pink Lady Braeburn\, Gold Ru
 sh &amp\; More\n\nPICK YOUR OWN APPLES\n$35 for 1/2 Bushel Apple Bag (trac
 tor ride to orchard on weekends)\nLIVE MUSIC 1PM to 5PM \nTASTINGS (WINE\
 , CIDER &amp\; SPIRITS)\n$8 cider tastings (includes souvenir glass)\n$10 
 wine tastings (includes souvenir glass)\n$12 spirits tasting (includes sou
 venir glass)\nGOURMET FOOD \nBring a blanket\, chairs\, or a tent to enjoy
  your day on the farm.\n$10/car parking fee on Saturday &amp\; Sunday in S
 eptember &amp\; October.\nNo outside food or beverages are permitted.\nNo 
 pets. Trained service dogs are the only exception.
END:VEVENT
BEGIN:VTIMEZONE
TZID:America/New_York
X-LIC-LOCATION:America/New_York
BEGIN:DAYLIGHT
DTSTART:20230312T030000
TZOFFSETFROM:-0500
TZOFFSETTO:-0400
TZNAME:EDT
END:DAYLIGHT
END:VTIMEZONE
END:VCALENDAR